BEGIN:VCALENDAR
VERSION:2.0
PRODID:-//www.mbsmissionaries.org//NONSGML kigkonsult.se iCalcreator 2.30.1
 0//
CALSCALE:GREGORIAN
METHOD:PUBLISH
UID:f33db434-2ec9-4910-b58f-44de2f34aa49
X-WR-CALDESC:\n
X-WR-RELCALID:acbf746cb0f060403dee21a483731db2
X-WR-TIMEZONE:America/Chicago
BEGIN:VTIMEZONE
TZID:America/Chicago
BEGIN:STANDARD
TZNAME:CST
DTSTART:20271107T020000
TZOFFSETFROM:-0500
TZOFFSETTO:-0600
RDATE:20281105T020000
RDATE:20291104T020000
END:STANDARD
BEGIN:DAYLIGHT
TZNAME:CDT
DTSTART:20280312T020000
TZOFFSETFROM:-0600
TZOFFSETTO:-0500
RDATE:20290311T020000
END:DAYLIGHT
END:VTIMEZONE
BEGIN:VEVENT
UID:89b4200e-af86-42bc-8399-6d22189329e9
DTSTAMP:20260425T122754Z
DESCRIPTION:\n
DTSTART;TZID=America/Chicago:20280614T140000
DTEND;TZID=America/Chicago:20280614T150000
LOCATION:
SUMMARY:Anxiety & Depression Support Group
END:VEVENT
END:VCALENDAR
