BEGIN:VCALENDAR
VERSION:2.0
PRODID:-//www.mbsmissionaries.org//NONSGML kigkonsult.se iCalcreator 2.30.1
 0//
CALSCALE:GREGORIAN
METHOD:PUBLISH
UID:1b166cbc-fbe0-46d8-a01c-3586fad86095
X-WR-CALDESC:
X-WR-RELCALID:5d5640f750ba2b1084d4524a6ca63f86
X-WR-TIMEZONE:America/Chicago
BEGIN:VTIMEZONE
TZID:America/Chicago
BEGIN:STANDARD
TZNAME:CST
DTSTART:20271107T020000
TZOFFSETFROM:-0500
TZOFFSETTO:-0600
RDATE:20281105T020000
RDATE:20291104T020000
END:STANDARD
BEGIN:DAYLIGHT
TZNAME:CDT
DTSTART:20280312T020000
TZOFFSETFROM:-0600
TZOFFSETTO:-0500
RDATE:20290311T020000
END:DAYLIGHT
END:VTIMEZONE
BEGIN:VEVENT
UID:ceb1e2bd-c6b5-4b96-b9ae-fe7a747c62ef
DTSTAMP:20260425T122916Z
DESCRIPTION:
DTSTART;TZID=America/Chicago:20280627T183000
DTEND;TZID=America/Chicago:20280627T193000
LOCATION:
SUMMARY:Prayer Group
END:VEVENT
END:VCALENDAR
