BEGIN:VCALENDAR
VERSION:2.0
PRODID:-//www.mbsmissionaries.org//NONSGML kigkonsult.se iCalcreator 2.30.1
 0//
CALSCALE:GREGORIAN
METHOD:PUBLISH
UID:5e73ae3e-e837-47f2-9f3d-86ecf4294246
X-WR-CALDESC:
X-WR-RELCALID:34d31db83f0d722736ebcffc223c600d
X-WR-TIMEZONE:America/Chicago
BEGIN:VTIMEZONE
TZID:America/Chicago
BEGIN:STANDARD
TZNAME:CST
DTSTART:20271107T020000
TZOFFSETFROM:-0500
TZOFFSETTO:-0600
RDATE:20281105T020000
RDATE:20291104T020000
END:STANDARD
BEGIN:DAYLIGHT
TZNAME:CDT
DTSTART:20280312T020000
TZOFFSETFROM:-0600
TZOFFSETTO:-0500
RDATE:20290311T020000
END:DAYLIGHT
END:VTIMEZONE
BEGIN:VEVENT
UID:c3ae935c-4468-435f-b8cd-9ce86bda1f3b
DTSTAMP:20260425T141357Z
DESCRIPTION:
DTSTART;TZID=America/Chicago:20280704T183000
DTEND;TZID=America/Chicago:20280704T193000
LOCATION:
SUMMARY:Prayer Group
END:VEVENT
END:VCALENDAR
