BEGIN:VCALENDAR
VERSION:2.0
PRODID:-//www.mbsmissionaries.org//NONSGML kigkonsult.se iCalcreator 2.30.1
 0//
CALSCALE:GREGORIAN
METHOD:PUBLISH
UID:83048170-137a-400b-81ff-72ec2a60dda4
X-WR-CALDESC:Join us on Zoom for the Cancer Survivor Support Group!
X-WR-RELCALID:1fa1100d5ca5f19ef14605b48b532d10
X-WR-TIMEZONE:America/Chicago
BEGIN:VTIMEZONE
TZID:America/Chicago
BEGIN:STANDARD
TZNAME:CST
DTSTART:20271107T020000
TZOFFSETFROM:-0500
TZOFFSETTO:-0600
RDATE:20281105T020000
RDATE:20291104T020000
END:STANDARD
BEGIN:DAYLIGHT
TZNAME:CDT
DTSTART:20280312T020000
TZOFFSETFROM:-0600
TZOFFSETTO:-0500
RDATE:20290311T020000
END:DAYLIGHT
END:VTIMEZONE
BEGIN:VEVENT
UID:a128e556-465c-41bb-b8ed-c3bb42aeb9c0
DTSTAMP:20260425T141618Z
DESCRIPTION:Join us on Zoom for the Cancer Survivor Support Group!
DTSTART;TZID=America/Chicago:20280706T190000
DTEND;TZID=America/Chicago:20280706T200000
LOCATION:
SUMMARY:Cancer Survivor Support Group
END:VEVENT
END:VCALENDAR
