BEGIN:VCALENDAR
VERSION:2.0
PRODID:-//www.mbsmissionaries.org//NONSGML kigkonsult.se iCalcreator 2.30.1
 0//
CALSCALE:GREGORIAN
METHOD:PUBLISH
UID:e85f03df-0a06-4d82-b54d-921feed64c4f
X-WR-CALDESC:
X-WR-RELCALID:4b55dc5f612201bebdc292fbbaff3ba9
X-WR-TIMEZONE:America/Chicago
BEGIN:VTIMEZONE
TZID:America/Chicago
BEGIN:STANDARD
TZNAME:CST
DTSTART:20271107T020000
TZOFFSETFROM:-0500
TZOFFSETTO:-0600
RDATE:20281105T020000
RDATE:20291104T020000
END:STANDARD
BEGIN:DAYLIGHT
TZNAME:CDT
DTSTART:20280312T020000
TZOFFSETFROM:-0600
TZOFFSETTO:-0500
RDATE:20290311T020000
END:DAYLIGHT
END:VTIMEZONE
BEGIN:VEVENT
UID:5152a64c-3a2f-4ecf-b33a-ab629c1a9f50
DTSTAMP:20260425T141500Z
DESCRIPTION:
DTSTART;TZID=America/Chicago:20280711T183000
DTEND;TZID=America/Chicago:20280711T193000
LOCATION:
SUMMARY:Prayer Group
END:VEVENT
END:VCALENDAR
