BEGIN:VCALENDAR
VERSION:2.0
PRODID:-//www.mbsmissionaries.org//NONSGML kigkonsult.se iCalcreator 2.30.1
 0//
CALSCALE:GREGORIAN
METHOD:PUBLISH
UID:0bbcfafb-9d55-4ae6-bdac-9664334be339
X-WR-CALDESC:
X-WR-RELCALID:37ac24a2dc4d64a8865b143af8d89782
X-WR-TIMEZONE:America/Chicago
BEGIN:VTIMEZONE
TZID:America/Chicago
BEGIN:STANDARD
TZNAME:CST
DTSTART:20271107T020000
TZOFFSETFROM:-0500
TZOFFSETTO:-0600
RDATE:20281105T020000
RDATE:20291104T020000
END:STANDARD
BEGIN:DAYLIGHT
TZNAME:CDT
DTSTART:20280312T020000
TZOFFSETFROM:-0600
TZOFFSETTO:-0500
RDATE:20290311T020000
END:DAYLIGHT
END:VTIMEZONE
BEGIN:VEVENT
UID:0e364586-6de5-4e7e-9b6f-750962af90ba
DTSTAMP:20260425T141454Z
DESCRIPTION:
DTSTART;TZID=America/Chicago:20280718T183000
DTEND;TZID=America/Chicago:20280718T193000
LOCATION:
SUMMARY:Prayer Group
END:VEVENT
END:VCALENDAR
