BEGIN:VCALENDAR
VERSION:2.0
PRODID:-//www.mbsmissionaries.org//NONSGML kigkonsult.se iCalcreator 2.30.1
 0//
CALSCALE:GREGORIAN
METHOD:PUBLISH
UID:b52ac349-f814-42cf-9113-4e87d948c2ce
X-WR-CALDESC:
X-WR-RELCALID:39908c29c79541a46c22b32a488b923f
X-WR-TIMEZONE:America/Chicago
BEGIN:VTIMEZONE
TZID:America/Chicago
BEGIN:STANDARD
TZNAME:CST
DTSTART:20271107T020000
TZOFFSETFROM:-0500
TZOFFSETTO:-0600
RDATE:20281105T020000
RDATE:20291104T020000
END:STANDARD
BEGIN:DAYLIGHT
TZNAME:CDT
DTSTART:20280312T020000
TZOFFSETFROM:-0600
TZOFFSETTO:-0500
RDATE:20290311T020000
END:DAYLIGHT
END:VTIMEZONE
BEGIN:VEVENT
UID:890dcb2b-88e6-41eb-ac9d-d14f818dc1a4
DTSTAMP:20260425T160303Z
DESCRIPTION:
DTSTART;TZID=America/Chicago:20280801T183000
DTEND;TZID=America/Chicago:20280801T193000
LOCATION:
SUMMARY:Prayer Group
END:VEVENT
END:VCALENDAR
