BEGIN:VCALENDAR
VERSION:2.0
PRODID:-//www.mbsmissionaries.org//NONSGML kigkonsult.se iCalcreator 2.30.1
 0//
CALSCALE:GREGORIAN
METHOD:PUBLISH
UID:709d5920-2ffd-4429-a63f-c368daf1c48b
X-WR-CALDESC:Missionary Benedictine Sisters welcome one and all to Lectio D
 ivina with the Sisters.  \nMonday Evenings – 7:30 PM\n4th Floor – St. Ther
 esa Mtg. Rm.  \nImmaculata Monastery\n300 N. 18th St. Norfolk\, NE\n
X-WR-RELCALID:17c77cdc72a3264c8374fbf04d372296
X-WR-TIMEZONE:America/Chicago
BEGIN:VTIMEZONE
TZID:America/Chicago
BEGIN:STANDARD
TZNAME:CST
DTSTART:20271107T020000
TZOFFSETFROM:-0500
TZOFFSETTO:-0600
RDATE:20281105T020000
RDATE:20291104T020000
END:STANDARD
BEGIN:DAYLIGHT
TZNAME:CDT
DTSTART:20280312T020000
TZOFFSETFROM:-0600
TZOFFSETTO:-0500
RDATE:20290311T020000
END:DAYLIGHT
END:VTIMEZONE
BEGIN:VEVENT
UID:6c3bfbb3-fbfe-42f0-9829-00ed14e1523f
DTSTAMP:20260425T160433Z
DESCRIPTION:Missionary Benedictine Sisters welcome one and all to Lectio Di
 vina with the Sisters.  \nMonday Evenings – 7:30 PM\n4th Floor – St. There
 sa Mtg. Rm.  \nImmaculata Monastery\n300 N. 18th St. Norfolk\, NE\n
DTSTART;TZID=America/Chicago:20280814T193000
DTEND;TZID=America/Chicago:20280814T203000
LOCATION:300 N. 18th St.\, Norfolk\, NE
SUMMARY:Lectio Divina
END:VEVENT
END:VCALENDAR
