BEGIN:VCALENDAR
VERSION:2.0
PRODID:-//www.mbsmissionaries.org//NONSGML kigkonsult.se iCalcreator 2.30.1
 0//
CALSCALE:GREGORIAN
METHOD:PUBLISH
UID:7b541fbf-c937-4105-920f-78289c085cea
X-WR-CALDESC:
X-WR-RELCALID:26fc68faeb4613ab29be87e07c1c72d3
X-WR-TIMEZONE:America/Chicago
BEGIN:VTIMEZONE
TZID:America/Chicago
BEGIN:STANDARD
TZNAME:CST
DTSTART:20271107T020000
TZOFFSETFROM:-0500
TZOFFSETTO:-0600
RDATE:20281105T020000
RDATE:20291104T020000
END:STANDARD
BEGIN:DAYLIGHT
TZNAME:CDT
DTSTART:20280312T020000
TZOFFSETFROM:-0600
TZOFFSETTO:-0500
RDATE:20290311T020000
END:DAYLIGHT
END:VTIMEZONE
BEGIN:VEVENT
UID:857900ab-9a08-41c6-8dd6-dbbb6988a36f
DTSTAMP:20260425T160054Z
DESCRIPTION:
DTSTART;TZID=America/Chicago:20280815T100000
DTEND;TZID=America/Chicago:20280815T110000
LOCATION:300 N. 18th Street\, Norfolk\, NE 68701 US
SUMMARY:Grief Support Group
END:VEVENT
END:VCALENDAR
