BEGIN:VCALENDAR
VERSION:2.0
PRODID:-//www.mbsmissionaries.org//NONSGML kigkonsult.se iCalcreator 2.30.1
 0//
CALSCALE:GREGORIAN
METHOD:PUBLISH
UID:7f7159c4-5fd2-41bc-be86-4bd34afdafff
X-WR-CALDESC:
X-WR-RELCALID:c202c6994f19ffc42867589339547437
X-WR-TIMEZONE:America/Chicago
BEGIN:VTIMEZONE
TZID:America/Chicago
BEGIN:STANDARD
TZNAME:CST
DTSTART:20271107T020000
TZOFFSETFROM:-0500
TZOFFSETTO:-0600
RDATE:20281105T020000
RDATE:20291104T020000
END:STANDARD
BEGIN:DAYLIGHT
TZNAME:CDT
DTSTART:20280312T020000
TZOFFSETFROM:-0600
TZOFFSETTO:-0500
RDATE:20290311T020000
END:DAYLIGHT
END:VTIMEZONE
BEGIN:VEVENT
UID:f93864c5-1858-46d6-a82e-bf1c8bb17947
DTSTAMP:20260425T160129Z
DESCRIPTION:
DTSTART;TZID=America/Chicago:20280822T183000
DTEND;TZID=America/Chicago:20280822T193000
LOCATION:
SUMMARY:Prayer Group
END:VEVENT
END:VCALENDAR
