BEGIN:VCALENDAR
VERSION:2.0
PRODID:-//www.mbsmissionaries.org//NONSGML kigkonsult.se iCalcreator 2.30.1
 0//
CALSCALE:GREGORIAN
METHOD:PUBLISH
UID:86d4b499-15da-4f83-9e39-ac558b383107
X-WR-CALDESC:
X-WR-RELCALID:864f8fc5053b7ba6ea2c897e653086cc
X-WR-TIMEZONE:America/Chicago
BEGIN:VTIMEZONE
TZID:America/Chicago
BEGIN:STANDARD
TZNAME:CST
DTSTART:20271107T020000
TZOFFSETFROM:-0500
TZOFFSETTO:-0600
RDATE:20281105T020000
RDATE:20291104T020000
END:STANDARD
BEGIN:DAYLIGHT
TZNAME:CDT
DTSTART:20280312T020000
TZOFFSETFROM:-0600
TZOFFSETTO:-0500
RDATE:20290311T020000
RDATE:20300310T020000
END:DAYLIGHT
END:VTIMEZONE
BEGIN:VEVENT
UID:30435288-4035-46a2-9b09-8547d2005eff
DTSTAMP:20260425T174321Z
DESCRIPTION:
DTSTART;TZID=America/Chicago:20280912T183000
DTEND;TZID=America/Chicago:20280912T193000
LOCATION:
SUMMARY:Prayer Group
END:VEVENT
END:VCALENDAR
