BEGIN:VCALENDAR
VERSION:2.0
PRODID:-//www.mbsmissionaries.org//NONSGML kigkonsult.se iCalcreator 2.30.1
 0//
CALSCALE:GREGORIAN
METHOD:PUBLISH
UID:c9692c8e-3668-4d0e-9dce-4867beca9b80
X-WR-CALDESC:
X-WR-RELCALID:24f30c57c63fb70f252d8d8ba297d748
X-WR-TIMEZONE:America/Chicago
BEGIN:VTIMEZONE
TZID:America/Chicago
BEGIN:STANDARD
TZNAME:CST
DTSTART:20271107T020000
TZOFFSETFROM:-0500
TZOFFSETTO:-0600
RDATE:20281105T020000
RDATE:20291104T020000
END:STANDARD
BEGIN:DAYLIGHT
TZNAME:CDT
DTSTART:20280312T020000
TZOFFSETFROM:-0600
TZOFFSETTO:-0500
RDATE:20290311T020000
RDATE:20300310T020000
END:DAYLIGHT
END:VTIMEZONE
BEGIN:VEVENT
UID:f12e97e7-39cd-4e49-83c7-add8fabebd32
DTSTAMP:20260425T174741Z
DESCRIPTION:
DTSTART;TZID=America/Chicago:20280919T183000
DTEND;TZID=America/Chicago:20280919T193000
LOCATION:
SUMMARY:Prayer Group
END:VEVENT
END:VCALENDAR
