BEGIN:VCALENDAR
VERSION:2.0
PRODID:-//www.mbsmissionaries.org//NONSGML kigkonsult.se iCalcreator 2.30.1
 0//
CALSCALE:GREGORIAN
METHOD:PUBLISH
UID:280c1986-2253-426b-970b-211ad7991e0f
X-WR-CALDESC:
X-WR-RELCALID:6c43e84a1e2c41c6ed32142b8b26df73
X-WR-TIMEZONE:America/Chicago
BEGIN:VTIMEZONE
TZID:America/Chicago
BEGIN:STANDARD
TZNAME:CST
DTSTART:20271107T020000
TZOFFSETFROM:-0500
TZOFFSETTO:-0600
RDATE:20281105T020000
RDATE:20291104T020000
END:STANDARD
BEGIN:DAYLIGHT
TZNAME:CDT
DTSTART:20280312T020000
TZOFFSETFROM:-0600
TZOFFSETTO:-0500
RDATE:20290311T020000
RDATE:20300310T020000
END:DAYLIGHT
END:VTIMEZONE
BEGIN:VEVENT
UID:167555bb-8d5b-4b1b-b747-90f08de3ae6b
DTSTAMP:20260425T194725Z
DESCRIPTION:
DTSTART;TZID=America/Chicago:20281003T183000
DTEND;TZID=America/Chicago:20281003T193000
LOCATION:
SUMMARY:Prayer Group
END:VEVENT
END:VCALENDAR
