BEGIN:VCALENDAR
VERSION:2.0
PRODID:-//www.mbsmissionaries.org//NONSGML kigkonsult.se iCalcreator 2.30.1
 0//
CALSCALE:GREGORIAN
METHOD:PUBLISH
UID:b52d6c13-ade7-4447-b55e-2a3c5f77e146
X-WR-CALDESC:
X-WR-RELCALID:e0a7cb048df8fcb4be904b6166f9fae3
X-WR-TIMEZONE:America/Chicago
BEGIN:VTIMEZONE
TZID:America/Chicago
BEGIN:STANDARD
TZNAME:CST
DTSTART:20271107T020000
TZOFFSETFROM:-0500
TZOFFSETTO:-0600
RDATE:20281105T020000
RDATE:20291104T020000
END:STANDARD
BEGIN:DAYLIGHT
TZNAME:CDT
DTSTART:20280312T020000
TZOFFSETFROM:-0600
TZOFFSETTO:-0500
RDATE:20290311T020000
RDATE:20300310T020000
END:DAYLIGHT
END:VTIMEZONE
BEGIN:VEVENT
UID:0c24e3ac-108f-4330-982d-29dcdd491bff
DTSTAMP:20260425T194246Z
DESCRIPTION:
DTSTART;TZID=America/Chicago:20281017T183000
DTEND;TZID=America/Chicago:20281017T193000
LOCATION:
SUMMARY:Prayer Group
END:VEVENT
END:VCALENDAR
