BEGIN:VCALENDAR
VERSION:2.0
PRODID:-//www.mbsmissionaries.org//NONSGML kigkonsult.se iCalcreator 2.30.1
 0//
CALSCALE:GREGORIAN
METHOD:PUBLISH
UID:5f53ab24-663b-43e7-ae8c-0a441e40468d
X-WR-CALDESC:Join us on Zoom for the Cancer Survivor Support Group!
X-WR-RELCALID:59f3f393a010fa9c77b13a46b3bf9f8a
X-WR-TIMEZONE:America/Chicago
BEGIN:VTIMEZONE
TZID:America/Chicago
BEGIN:STANDARD
TZNAME:CST
DTSTART:20271107T020000
TZOFFSETFROM:-0500
TZOFFSETTO:-0600
RDATE:20281105T020000
RDATE:20291104T020000
END:STANDARD
BEGIN:DAYLIGHT
TZNAME:CDT
DTSTART:20280312T020000
TZOFFSETFROM:-0600
TZOFFSETTO:-0500
RDATE:20290311T020000
RDATE:20300310T020000
END:DAYLIGHT
END:VTIMEZONE
BEGIN:VEVENT
UID:68a0f0c4-7bde-4140-a039-0f931a44f470
DTSTAMP:20260425T195606Z
DESCRIPTION:Join us on Zoom for the Cancer Survivor Support Group!
DTSTART;TZID=America/Chicago:20281019T190000
DTEND;TZID=America/Chicago:20281019T200000
LOCATION:
SUMMARY:Cancer Survivor Support Group
END:VEVENT
END:VCALENDAR
