BEGIN:VCALENDAR
VERSION:2.0
PRODID:-//www.mbsmissionaries.org//NONSGML kigkonsult.se iCalcreator 2.30.1
 0//
CALSCALE:GREGORIAN
METHOD:PUBLISH
UID:0f18e253-0def-426d-bd34-8e9981653d2b
X-WR-CALDESC:Come move with us...\nWednesdays and Fridays\, 10:00 a.m. \nat
  Immaculata Monastery! \n
X-WR-RELCALID:0ec221c912df520111504891c685d279
X-WR-TIMEZONE:America/Chicago
BEGIN:VTIMEZONE
TZID:America/Chicago
BEGIN:STANDARD
TZNAME:CST
DTSTART:20271107T020000
TZOFFSETFROM:-0500
TZOFFSETTO:-0600
RDATE:20281105T020000
RDATE:20291104T020000
END:STANDARD
BEGIN:DAYLIGHT
TZNAME:CDT
DTSTART:20280312T020000
TZOFFSETFROM:-0600
TZOFFSETTO:-0500
RDATE:20290311T020000
RDATE:20300310T020000
END:DAYLIGHT
END:VTIMEZONE
BEGIN:VEVENT
UID:ed5cd3fc-3de3-450e-8238-406ec2d0ddce
DTSTAMP:20260425T200031Z
DESCRIPTION:Come move with us...\nWednesdays and Fridays\, 10:00 a.m. \nat 
 Immaculata Monastery! \n
DTSTART;TZID=America/Chicago:20281020T100000
DTEND;TZID=America/Chicago:20281020T110000
LOCATION:Immaculata Monastery- 300 N. 18th St. Norfolk\, NE 68701
SUMMARY:Tai Chi: Moving for Better Balance
END:VEVENT
END:VCALENDAR
