BEGIN:VCALENDAR
VERSION:2.0
PRODID:-//www.mbsmissionaries.org//NONSGML kigkonsult.se iCalcreator 2.30.1
 0//
CALSCALE:GREGORIAN
METHOD:PUBLISH
UID:7e600b39-5fec-4b87-a09b-188d00d6ce68
X-WR-CALDESC:
X-WR-RELCALID:47ec4dfc8a0b2e5e24d8b94d8222c933
X-WR-TIMEZONE:America/Chicago
BEGIN:VTIMEZONE
TZID:America/Chicago
BEGIN:STANDARD
TZNAME:CST
DTSTART:20271107T020000
TZOFFSETFROM:-0500
TZOFFSETTO:-0600
RDATE:20281105T020000
RDATE:20291104T020000
END:STANDARD
BEGIN:DAYLIGHT
TZNAME:CDT
DTSTART:20280312T020000
TZOFFSETFROM:-0600
TZOFFSETTO:-0500
RDATE:20290311T020000
RDATE:20300310T020000
END:DAYLIGHT
END:VTIMEZONE
BEGIN:VEVENT
UID:a09a951f-f5b7-4fe9-9c5a-0dd65fd80edf
DTSTAMP:20260425T193435Z
DESCRIPTION:
DTSTART;TZID=America/Chicago:20281024T183000
DTEND;TZID=America/Chicago:20281024T193000
LOCATION:
SUMMARY:Prayer Group
END:VEVENT
END:VCALENDAR
