BEGIN:VCALENDAR
VERSION:2.0
PRODID:-//www.mbsmissionaries.org//NONSGML kigkonsult.se iCalcreator 2.30.1
 0//
CALSCALE:GREGORIAN
METHOD:PUBLISH
UID:a8c32685-e328-45bf-b7da-0546e7cf7734
X-WR-CALDESC:
X-WR-RELCALID:1cf4f2e2fd3304a8b94b93837059196f
X-WR-TIMEZONE:America/Chicago
BEGIN:VTIMEZONE
TZID:America/Chicago
BEGIN:STANDARD
TZNAME:CST
DTSTART:20271107T020000
TZOFFSETFROM:-0500
TZOFFSETTO:-0600
RDATE:20281105T020000
RDATE:20291104T020000
END:STANDARD
BEGIN:DAYLIGHT
TZNAME:CDT
DTSTART:20280312T020000
TZOFFSETFROM:-0600
TZOFFSETTO:-0500
RDATE:20290311T020000
RDATE:20300310T020000
END:DAYLIGHT
END:VTIMEZONE
BEGIN:VEVENT
UID:7df9e937-a585-4cb3-a7bf-6a1d6a60e2ce
DTSTAMP:20260425T193441Z
DESCRIPTION:
DTSTART;TZID=America/Chicago:20281031T183000
DTEND;TZID=America/Chicago:20281031T193000
LOCATION:
SUMMARY:Prayer Group
END:VEVENT
END:VCALENDAR
