BEGIN:VCALENDAR
VERSION:2.0
PRODID:-//www.mbsmissionaries.org//NONSGML kigkonsult.se iCalcreator 2.30.1
 0//
CALSCALE:GREGORIAN
METHOD:PUBLISH
UID:89b0058e-0a39-4285-a0e0-f6781dd7e515
X-WR-CALDESC:
X-WR-RELCALID:c06a0fcfe63089f0a7b13e4d6f391a4d
X-WR-TIMEZONE:America/Chicago
BEGIN:VTIMEZONE
TZID:America/Chicago
BEGIN:STANDARD
TZNAME:CST
DTSTART:20281105T020000
TZOFFSETFROM:-0500
TZOFFSETTO:-0600
RDATE:20291104T020000
END:STANDARD
BEGIN:DAYLIGHT
TZNAME:CDT
DTSTART:20280312T020000
TZOFFSETFROM:-0600
TZOFFSETTO:-0500
RDATE:20290311T020000
RDATE:20300310T020000
END:DAYLIGHT
END:VTIMEZONE
BEGIN:VEVENT
UID:0018fd63-1c5d-41e8-a133-02e937210bbe
DTSTAMP:20260425T212646Z
DESCRIPTION:
DTSTART;TZID=America/Chicago:20281107T183000
DTEND;TZID=America/Chicago:20281107T193000
LOCATION:
SUMMARY:Prayer Group
END:VEVENT
END:VCALENDAR
