BEGIN:VCALENDAR
VERSION:2.0
PRODID:-//www.mbsmissionaries.org//NONSGML kigkonsult.se iCalcreator 2.30.1
 0//
CALSCALE:GREGORIAN
METHOD:PUBLISH
UID:fc27977b-69a3-4980-bc7d-3d1d3d66de59
X-WR-CALDESC:\n
X-WR-RELCALID:98e6b3251550deac9bd9ecdd43d25dc4
X-WR-TIMEZONE:America/Chicago
BEGIN:VTIMEZONE
TZID:America/Chicago
BEGIN:STANDARD
TZNAME:CST
DTSTART:20281105T020000
TZOFFSETFROM:-0500
TZOFFSETTO:-0600
RDATE:20291104T020000
END:STANDARD
BEGIN:DAYLIGHT
TZNAME:CDT
DTSTART:20280312T020000
TZOFFSETFROM:-0600
TZOFFSETTO:-0500
RDATE:20290311T020000
RDATE:20300310T020000
END:DAYLIGHT
END:VTIMEZONE
BEGIN:VEVENT
UID:9074ccda-bb80-46e6-a6e9-4e8a6caa4f67
DTSTAMP:20260425T212616Z
DESCRIPTION:\n
DTSTART;TZID=America/Chicago:20281108T140000
DTEND;TZID=America/Chicago:20281108T150000
LOCATION:
SUMMARY:Anxiety & Depression Support Group
END:VEVENT
END:VCALENDAR
