BEGIN:VCALENDAR
VERSION:2.0
PRODID:-//www.mbsmissionaries.org//NONSGML kigkonsult.se iCalcreator 2.30.1
 0//
CALSCALE:GREGORIAN
METHOD:PUBLISH
UID:0876fa43-81e5-497b-9217-f971f6532941
X-WR-CALDESC:
X-WR-RELCALID:18751b0458bba704e490b1efce53b27c
X-WR-TIMEZONE:America/Chicago
BEGIN:VTIMEZONE
TZID:America/Chicago
BEGIN:STANDARD
TZNAME:CST
DTSTART:20281105T020000
TZOFFSETFROM:-0500
TZOFFSETTO:-0600
RDATE:20291104T020000
END:STANDARD
BEGIN:DAYLIGHT
TZNAME:CDT
DTSTART:20280312T020000
TZOFFSETFROM:-0600
TZOFFSETTO:-0500
RDATE:20290311T020000
RDATE:20300310T020000
END:DAYLIGHT
END:VTIMEZONE
BEGIN:VEVENT
UID:60d65bdc-a7dc-4b4b-8900-c58722c58f79
DTSTAMP:20260425T212703Z
DESCRIPTION:
DTSTART;TZID=America/Chicago:20281114T183000
DTEND;TZID=America/Chicago:20281114T193000
LOCATION:
SUMMARY:Prayer Group
END:VEVENT
END:VCALENDAR
