BEGIN:VCALENDAR
VERSION:2.0
PRODID:-//www.mbsmissionaries.org//NONSGML kigkonsult.se iCalcreator 2.30.1
 0//
CALSCALE:GREGORIAN
METHOD:PUBLISH
UID:3f12f1f1-f2dc-49ca-b4f6-d6c16b4e69ff
X-WR-CALDESC:
X-WR-RELCALID:30586d2b9cb486c624e01246c8ddde02
X-WR-TIMEZONE:America/Chicago
BEGIN:VTIMEZONE
TZID:America/Chicago
BEGIN:STANDARD
TZNAME:CST
DTSTART:20281105T020000
TZOFFSETFROM:-0500
TZOFFSETTO:-0600
RDATE:20291104T020000
END:STANDARD
BEGIN:DAYLIGHT
TZNAME:CDT
DTSTART:20280312T020000
TZOFFSETFROM:-0600
TZOFFSETTO:-0500
RDATE:20290311T020000
RDATE:20300310T020000
END:DAYLIGHT
END:VTIMEZONE
BEGIN:VEVENT
UID:d02db595-695a-4489-9adf-1515083a0656
DTSTAMP:20260425T212438Z
DESCRIPTION:
DTSTART;TZID=America/Chicago:20281121T183000
DTEND;TZID=America/Chicago:20281121T193000
LOCATION:
SUMMARY:Prayer Group
END:VEVENT
END:VCALENDAR
