BEGIN:VCALENDAR
VERSION:2.0
PRODID:-//www.mbsmissionaries.org//NONSGML kigkonsult.se iCalcreator 2.30.1
 0//
CALSCALE:GREGORIAN
METHOD:PUBLISH
UID:86abd441-e41b-41dd-919b-83d2626029f7
X-WR-CALDESC:
X-WR-RELCALID:6aa5ffd6b91bf67a4d9c8abceb7722b6
X-WR-TIMEZONE:America/Chicago
BEGIN:VTIMEZONE
TZID:America/Chicago
BEGIN:STANDARD
TZNAME:CST
DTSTART:20281105T020000
TZOFFSETFROM:-0500
TZOFFSETTO:-0600
RDATE:20291104T020000
END:STANDARD
BEGIN:DAYLIGHT
TZNAME:CDT
DTSTART:20280312T020000
TZOFFSETFROM:-0600
TZOFFSETTO:-0500
RDATE:20290311T020000
RDATE:20300310T020000
END:DAYLIGHT
END:VTIMEZONE
BEGIN:VEVENT
UID:debf0d25-b5e5-4849-8bf9-85b63492612a
DTSTAMP:20260425T230223Z
DESCRIPTION:
DTSTART;TZID=America/Chicago:20281205T100000
DTEND;TZID=America/Chicago:20281205T110000
LOCATION:300 N. 18th Street\, Norfolk\, NE 68701 US
SUMMARY:Grief Support Group
END:VEVENT
END:VCALENDAR
