BEGIN:VCALENDAR
VERSION:2.0
PRODID:-//www.mbsmissionaries.org//NONSGML kigkonsult.se iCalcreator 2.30.1
 0//
CALSCALE:GREGORIAN
METHOD:PUBLISH
UID:80ec1317-79a2-4b4e-bfdf-ba3415bb0c39
X-WR-CALDESC:Come move with us...\nWednesdays and Fridays\, 10:00 a.m. \nat
  Immaculata Monastery! \n
X-WR-RELCALID:3be89f180c600b50a90cef86b278ad2d
X-WR-TIMEZONE:America/Chicago
BEGIN:VTIMEZONE
TZID:America/Chicago
BEGIN:STANDARD
TZNAME:CST
DTSTART:20281105T020000
TZOFFSETFROM:-0500
TZOFFSETTO:-0600
RDATE:20291104T020000
END:STANDARD
BEGIN:DAYLIGHT
TZNAME:CDT
DTSTART:20280312T020000
TZOFFSETFROM:-0600
TZOFFSETTO:-0500
RDATE:20290311T020000
RDATE:20300310T020000
END:DAYLIGHT
END:VTIMEZONE
BEGIN:VEVENT
UID:0407c877-b7f7-4786-b2e8-41b6f268c5ad
DTSTAMP:20260425T232628Z
DESCRIPTION:Come move with us...\nWednesdays and Fridays\, 10:00 a.m. \nat 
 Immaculata Monastery! \n
DTSTART;TZID=America/Chicago:20281215T100000
DTEND;TZID=America/Chicago:20281215T110000
LOCATION:Immaculata Monastery- 300 N. 18th St. Norfolk\, NE 68701
SUMMARY:Tai Chi: Moving for Better Balance
END:VEVENT
END:VCALENDAR
