BEGIN:VCALENDAR
VERSION:2.0
PRODID:-//www.mbsmissionaries.org//NONSGML kigkonsult.se iCalcreator 2.30.1
 0//
CALSCALE:GREGORIAN
METHOD:PUBLISH
UID:0368d667-9e8c-4491-a494-9b2bf3dad55d
X-WR-CALDESC:
X-WR-RELCALID:9281748d883ee5bb28241ee91802fef6
X-WR-TIMEZONE:America/Chicago
BEGIN:VTIMEZONE
TZID:America/Chicago
BEGIN:STANDARD
TZNAME:CST
DTSTART:20281105T020000
TZOFFSETFROM:-0500
TZOFFSETTO:-0600
RDATE:20291104T020000
END:STANDARD
BEGIN:DAYLIGHT
TZNAME:CDT
DTSTART:20280312T020000
TZOFFSETFROM:-0600
TZOFFSETTO:-0500
RDATE:20290311T020000
RDATE:20300310T020000
END:DAYLIGHT
END:VTIMEZONE
BEGIN:VEVENT
UID:5233e65e-4075-4f9b-a9a6-29e70e1b35b3
DTSTAMP:20260426T005954Z
DESCRIPTION:
DTSTART;TZID=America/Chicago:20290109T183000
DTEND;TZID=America/Chicago:20290109T193000
LOCATION:
SUMMARY:Prayer Group
END:VEVENT
END:VCALENDAR
