BEGIN:VCALENDAR
VERSION:2.0
PRODID:-//www.mbsmissionaries.org//NONSGML kigkonsult.se iCalcreator 2.30.1
 0//
CALSCALE:GREGORIAN
METHOD:PUBLISH
UID:8d0d64b3-4cef-4ebf-a903-d8e8f4984c77
X-WR-CALDESC:\n
X-WR-RELCALID:3399933e1b38085d6388e8a8bcea61b3
X-WR-TIMEZONE:America/Chicago
BEGIN:VTIMEZONE
TZID:America/Chicago
BEGIN:STANDARD
TZNAME:CST
DTSTART:20281105T020000
TZOFFSETFROM:-0500
TZOFFSETTO:-0600
RDATE:20291104T020000
END:STANDARD
BEGIN:DAYLIGHT
TZNAME:CDT
DTSTART:20280312T020000
TZOFFSETFROM:-0600
TZOFFSETTO:-0500
RDATE:20290311T020000
RDATE:20300310T020000
END:DAYLIGHT
END:VTIMEZONE
BEGIN:VEVENT
UID:4fe06f0e-b001-4c68-a77f-3af38e66ca4e
DTSTAMP:20260426T005707Z
DESCRIPTION:\n
DTSTART;TZID=America/Chicago:20290117T140000
DTEND;TZID=America/Chicago:20290117T150000
LOCATION:
SUMMARY:Anxiety & Depression Support Group
END:VEVENT
END:VCALENDAR
