BEGIN:VCALENDAR
VERSION:2.0
PRODID:-//www.mbsmissionaries.org//NONSGML kigkonsult.se iCalcreator 2.30.1
 0//
CALSCALE:GREGORIAN
METHOD:PUBLISH
UID:8258ea6c-30d3-4fa0-9225-ecc23ca78858
X-WR-CALDESC:
X-WR-RELCALID:54d717eefd7b441a4c7b10b825137349
X-WR-TIMEZONE:America/Chicago
BEGIN:VTIMEZONE
TZID:America/Chicago
BEGIN:STANDARD
TZNAME:CST
DTSTART:20281105T020000
TZOFFSETFROM:-0500
TZOFFSETTO:-0600
RDATE:20291104T020000
END:STANDARD
BEGIN:DAYLIGHT
TZNAME:CDT
DTSTART:20280312T020000
TZOFFSETFROM:-0600
TZOFFSETTO:-0500
RDATE:20290311T020000
RDATE:20300310T020000
END:DAYLIGHT
END:VTIMEZONE
BEGIN:VEVENT
UID:244898c8-8dfc-4138-8bd2-67c1a210e2a6
DTSTAMP:20260426T005953Z
DESCRIPTION:
DTSTART;TZID=America/Chicago:20290123T183000
DTEND;TZID=America/Chicago:20290123T193000
LOCATION:
SUMMARY:Prayer Group
END:VEVENT
END:VCALENDAR
