BEGIN:VCALENDAR
VERSION:2.0
PRODID:-//www.mbsmissionaries.org//NONSGML kigkonsult.se iCalcreator 2.30.1
 0//
CALSCALE:GREGORIAN
METHOD:PUBLISH
UID:967f0441-c683-4b88-8850-e59111e7870e
X-WR-CALDESC:
X-WR-RELCALID:146f0ff61bff11a96398adcd98be3eb4
X-WR-TIMEZONE:America/Chicago
BEGIN:VTIMEZONE
TZID:America/Chicago
BEGIN:STANDARD
TZNAME:CST
DTSTART:20281105T020000
TZOFFSETFROM:-0500
TZOFFSETTO:-0600
RDATE:20291104T020000
END:STANDARD
BEGIN:DAYLIGHT
TZNAME:CDT
DTSTART:20280312T020000
TZOFFSETFROM:-0600
TZOFFSETTO:-0500
RDATE:20290311T020000
RDATE:20300310T020000
END:DAYLIGHT
END:VTIMEZONE
BEGIN:VEVENT
UID:d647371f-aff5-414a-83e8-916358a2a1c3
DTSTAMP:20260426T005626Z
DESCRIPTION:
DTSTART;TZID=America/Chicago:20290130T100000
DTEND;TZID=America/Chicago:20290130T110000
LOCATION:300 N. 18th Street\, Norfolk\, NE 68701 US
SUMMARY:Grief Support Group
END:VEVENT
END:VCALENDAR
