BEGIN:VCALENDAR
VERSION:2.0
PRODID:-//www.mbsmissionaries.org//NONSGML kigkonsult.se iCalcreator 2.30.1
 0//
CALSCALE:GREGORIAN
METHOD:PUBLISH
UID:3baeebb4-4bd9-47fd-9c64-edda4d31fc51
X-WR-CALDESC:
X-WR-RELCALID:9cc932d5797b2b76f5b4c1c389a6706a
X-WR-TIMEZONE:America/Chicago
BEGIN:VTIMEZONE
TZID:America/Chicago
BEGIN:STANDARD
TZNAME:CST
DTSTART:20281105T020000
TZOFFSETFROM:-0500
TZOFFSETTO:-0600
RDATE:20291104T020000
END:STANDARD
BEGIN:DAYLIGHT
TZNAME:CDT
DTSTART:20280312T020000
TZOFFSETFROM:-0600
TZOFFSETTO:-0500
RDATE:20290311T020000
RDATE:20300310T020000
END:DAYLIGHT
END:VTIMEZONE
BEGIN:VEVENT
UID:dac03ff2-bd59-4f06-a75f-1efa05c07817
DTSTAMP:20260426T025111Z
DESCRIPTION:
DTSTART;TZID=America/Chicago:20290206T183000
DTEND;TZID=America/Chicago:20290206T193000
LOCATION:
SUMMARY:Prayer Group
END:VEVENT
END:VCALENDAR
