BEGIN:VCALENDAR
VERSION:2.0
PRODID:-//www.mbsmissionaries.org//NONSGML kigkonsult.se iCalcreator 2.30.1
 0//
CALSCALE:GREGORIAN
METHOD:PUBLISH
UID:9128e222-dadb-4267-8b4a-f4a070c5fd9c
X-WR-CALDESC:Come move with us...\nWednesdays and Fridays\, 10:00 a.m. \nat
  Immaculata Monastery! \n
X-WR-RELCALID:c6b9fe679514cd5874c87f9b9f85dc97
X-WR-TIMEZONE:America/Chicago
BEGIN:VTIMEZONE
TZID:America/Chicago
BEGIN:STANDARD
TZNAME:CST
DTSTART:20281105T020000
TZOFFSETFROM:-0500
TZOFFSETTO:-0600
RDATE:20291104T020000
END:STANDARD
BEGIN:DAYLIGHT
TZNAME:CDT
DTSTART:20280312T020000
TZOFFSETFROM:-0600
TZOFFSETTO:-0500
RDATE:20290311T020000
RDATE:20300310T020000
END:DAYLIGHT
END:VTIMEZONE
BEGIN:VEVENT
UID:bc83f345-bca1-4277-8ca3-5392e58540a8
DTSTAMP:20260426T025559Z
DESCRIPTION:Come move with us...\nWednesdays and Fridays\, 10:00 a.m. \nat 
 Immaculata Monastery! \n
DTSTART;TZID=America/Chicago:20290221T100000
DTEND;TZID=America/Chicago:20290221T110000
LOCATION:Immaculata Monastery- 300 N. 18th St. Norfolk\, NE 68701
SUMMARY:Tai Chi: Moving for Better Balance
END:VEVENT
END:VCALENDAR
