BEGIN:VCALENDAR
VERSION:2.0
PRODID:-//www.mbsmissionaries.org//NONSGML kigkonsult.se iCalcreator 2.30.1
 0//
CALSCALE:GREGORIAN
METHOD:PUBLISH
UID:d977dbcf-828f-42d9-839e-55f176c240c0
X-WR-CALDESC:
X-WR-RELCALID:264b13c2ee6fdf750af318a4e29be66b
X-WR-TIMEZONE:America/Chicago
BEGIN:VTIMEZONE
TZID:America/Chicago
BEGIN:STANDARD
TZNAME:CST
DTSTART:20281105T020000
TZOFFSETFROM:-0500
TZOFFSETTO:-0600
RDATE:20291104T020000
END:STANDARD
BEGIN:DAYLIGHT
TZNAME:CDT
DTSTART:20280312T020000
TZOFFSETFROM:-0600
TZOFFSETTO:-0500
RDATE:20290311T020000
RDATE:20300310T020000
END:DAYLIGHT
END:VTIMEZONE
BEGIN:VEVENT
UID:db28b28c-8511-4672-90d3-ce8d046e731f
DTSTAMP:20260426T025236Z
DESCRIPTION:
DTSTART;TZID=America/Chicago:20290227T183000
DTEND;TZID=America/Chicago:20290227T193000
LOCATION:
SUMMARY:Prayer Group
END:VEVENT
END:VCALENDAR
