BEGIN:VCALENDAR
VERSION:2.0
PRODID:-//www.mbsmissionaries.org//NONSGML kigkonsult.se iCalcreator 2.30.1
 0//
CALSCALE:GREGORIAN
METHOD:PUBLISH
UID:cd6ad5e5-b3b5-4308-aea4-0f7f93d2d387
X-WR-CALDESC:
X-WR-RELCALID:dc2db64bec975890652e76992f575f04
X-WR-TIMEZONE:America/Chicago
BEGIN:VTIMEZONE
TZID:America/Chicago
BEGIN:STANDARD
TZNAME:CST
DTSTART:20281105T020000
TZOFFSETFROM:-0500
TZOFFSETTO:-0600
RDATE:20291104T020000
END:STANDARD
BEGIN:DAYLIGHT
TZNAME:CDT
DTSTART:20290311T020000
TZOFFSETFROM:-0600
TZOFFSETTO:-0500
RDATE:20300310T020000
END:DAYLIGHT
END:VTIMEZONE
BEGIN:VEVENT
UID:dbeb699e-c949-460d-93ba-53fe2d88e380
DTSTAMP:20260426T043447Z
DESCRIPTION:
DTSTART;TZID=America/Chicago:20290313T100000
DTEND;TZID=America/Chicago:20290313T110000
LOCATION:300 N. 18th Street\, Norfolk\, NE 68701 US
SUMMARY:Grief Support Group
END:VEVENT
END:VCALENDAR
