BEGIN:VCALENDAR
VERSION:2.0
PRODID:-//www.mbsmissionaries.org//NONSGML kigkonsult.se iCalcreator 2.30.1
 0//
CALSCALE:GREGORIAN
METHOD:PUBLISH
UID:eb31a13f-23ae-4c63-af84-0d7fc8dac12d
X-WR-CALDESC:
X-WR-RELCALID:7176469878add1f7d30c4450a7ffc59d
X-WR-TIMEZONE:America/Chicago
BEGIN:VTIMEZONE
TZID:America/Chicago
BEGIN:STANDARD
TZNAME:CST
DTSTART:20281105T020000
TZOFFSETFROM:-0500
TZOFFSETTO:-0600
RDATE:20291104T020000
END:STANDARD
BEGIN:DAYLIGHT
TZNAME:CDT
DTSTART:20290311T020000
TZOFFSETFROM:-0600
TZOFFSETTO:-0500
RDATE:20300310T020000
END:DAYLIGHT
END:VTIMEZONE
BEGIN:VEVENT
UID:10743c38-ed23-42fe-8e10-c6fae1b5aaa7
DTSTAMP:20260426T043614Z
DESCRIPTION:
DTSTART;TZID=America/Chicago:20290313T183000
DTEND;TZID=America/Chicago:20290313T193000
LOCATION:
SUMMARY:Prayer Group
END:VEVENT
END:VCALENDAR
